BEGIN:VCALENDAR
VERSION:2.0
PRODID:-//Tukios.com/
BEGIN:VEVENT
UID:1fd6ff20-fdd4-47e5-ba6f-d41faeff968f@www.glacierfuneralhome.com
DTSTAMP:20260421T064115Z
DTSTART:20260424T010000Z
DTEND:20260424T011500Z
SUMMARY:Rosary
DESCRIPTION:
URL:https://www.glacierfuneralhome.com/obituaries/orline-devereaux
LOCATION:Glacier Homes Community Center 42 College Homes  Browning MT 
	59417
GEO:48.5733304;-113.0201544
END:VEVENT
END:VCALENDAR