BEGIN:VCALENDAR
VERSION:2.0
PRODID:-//Tukios.com/
BEGIN:VEVENT
UID:42254818-91e4-4972-9f88-3391e24e091e@www.glacierfuneralhome.com
DTSTAMP:20260421T064334Z
DTSTART:20260424T200000Z
DTEND:20260424T210000Z
SUMMARY:Funeral Service
DESCRIPTION:
URL:https://www.glacierfuneralhome.com/obituaries/orline-devereaux
LOCATION:Little Flower Parish 204 First Street NW  Browning MT 59417
GEO:48.557162;-113.0152521
END:VEVENT
END:VCALENDAR