BEGIN:VCALENDAR
VERSION:2.0
PRODID:-//Tukios.com/
BEGIN:VEVENT
UID:85848aa0-ee40-4817-9fe3-6f0892af5643@www.glacierfuneralhome.com
DTSTAMP:20260421T064334Z
DTSTART:20260421T200000Z
DTEND:20260421T200000Z
SUMMARY:Public Viewing
DESCRIPTION:
URL:https://www.glacierfuneralhome.com/obituaries/orline-devereaux
LOCATION:Glacier Homes Community Center 42 College Homes  Browning MT 
	59417
GEO:48.5733304;-113.0201544
END:VEVENT
END:VCALENDAR